BEGIN:VCALENDAR
VERSION:2.0
PRODID:-//1. Bruchsaler Automobilclub e.V. - ECPv6.15.16//NONSGML v1.0//EN
CALSCALE:GREGORIAN
METHOD:PUBLISH
X-WR-CALNAME:1. Bruchsaler Automobilclub e.V.
X-ORIGINAL-URL:https://www.1bac.de
X-WR-CALDESC:Veranstaltungen für 1. Bruchsaler Automobilclub e.V.
REFRESH-INTERVAL;VALUE=DURATION:PT1H
X-Robots-Tag:noindex
X-PUBLISHED-TTL:PT1H
BEGIN:VTIMEZONE
TZID:Europe/Berlin
BEGIN:DAYLIGHT
TZOFFSETFROM:+0100
TZOFFSETTO:+0200
TZNAME:CEST
DTSTART:20250330T010000
END:DAYLIGHT
BEGIN:STANDARD
TZOFFSETFROM:+0200
TZOFFSETTO:+0100
TZNAME:CET
DTSTART:20251026T010000
END:STANDARD
BEGIN:DAYLIGHT
TZOFFSETFROM:+0100
TZOFFSETTO:+0200
TZNAME:CEST
DTSTART:20260329T010000
END:DAYLIGHT
BEGIN:STANDARD
TZOFFSETFROM:+0200
TZOFFSETTO:+0100
TZNAME:CET
DTSTART:20261025T010000
END:STANDARD
BEGIN:DAYLIGHT
TZOFFSETFROM:+0100
TZOFFSETTO:+0200
TZNAME:CEST
DTSTART:20270328T010000
END:DAYLIGHT
BEGIN:STANDARD
TZOFFSETFROM:+0200
TZOFFSETTO:+0100
TZNAME:CET
DTSTART:20271031T010000
END:STANDARD
END:VTIMEZONE
BEGIN:VEVENT
DTSTART;TZID=Europe/Berlin:20260508T180000
DTEND;TZID=Europe/Berlin:20260508T210000
DTSTAMP:20260425T162827
CREATED:20260216T013425Z
LAST-MODIFIED:20260216T013425Z
UID:248506-1778263200-1778274000@www.1bac.de
SUMMARY:Clubabend
DESCRIPTION:
URL:https://www.1bac.de/event/clubabend-5/
LOCATION:FV Viktoria Ubstadt\, Kolpingstraße 26\, Ubstadt\, 76698
END:VEVENT
BEGIN:VEVENT
DTSTART;TZID=Europe/Berlin:20260605T150000
DTEND;TZID=Europe/Berlin:20260605T220000
DTSTAMP:20260425T162827
CREATED:20260216T013518Z
LAST-MODIFIED:20260216T013518Z
UID:248508-1780671600-1780696800@www.1bac.de
SUMMARY:Sommerfest
DESCRIPTION:
URL:https://www.1bac.de/event/sommerfest-2/
LOCATION:Grillhütte Hambrücken
END:VEVENT
BEGIN:VEVENT
DTSTART;VALUE=DATE:20260703
DTEND;VALUE=DATE:20260704
DTSTAMP:20260425T162827
CREATED:20260216T013601Z
LAST-MODIFIED:20260216T013601Z
UID:248510-1783036800-1783123199@www.1bac.de
SUMMARY:Tagesausflug
DESCRIPTION:
URL:https://www.1bac.de/event/tagesausflug/
END:VEVENT
BEGIN:VEVENT
DTSTART;TZID=Europe/Berlin:20260807T180000
DTEND;TZID=Europe/Berlin:20260807T210000
DTSTAMP:20260425T162827
CREATED:20260216T013639Z
LAST-MODIFIED:20260216T013639Z
UID:248512-1786125600-1786136400@www.1bac.de
SUMMARY:Clubabend
DESCRIPTION:
URL:https://www.1bac.de/event/clubabend-6/
LOCATION:FV Viktoria Ubstadt\, Kolpingstraße 26\, Ubstadt\, 76698
END:VEVENT
BEGIN:VEVENT
DTSTART;VALUE=DATE:20260904
DTEND;VALUE=DATE:20260905
DTSTAMP:20260425T162827
CREATED:20260216T013726Z
LAST-MODIFIED:20260216T013726Z
UID:248514-1788480000-1788566399@www.1bac.de
SUMMARY:Tagesausflug
DESCRIPTION:
URL:https://www.1bac.de/event/tagesausflug-2/
END:VEVENT
BEGIN:VEVENT
DTSTART;TZID=Europe/Berlin:20261002T180000
DTEND;TZID=Europe/Berlin:20261002T210000
DTSTAMP:20260425T162827
CREATED:20260216T013800Z
LAST-MODIFIED:20260216T013800Z
UID:248516-1790964000-1790974800@www.1bac.de
SUMMARY:Clubabend
DESCRIPTION:
URL:https://www.1bac.de/event/clubabend-7/
LOCATION:FV Viktoria Ubstadt\, Kolpingstraße 26\, Ubstadt\, 76698
END:VEVENT
BEGIN:VEVENT
DTSTART;TZID=Europe/Berlin:20261106T180000
DTEND;TZID=Europe/Berlin:20261106T210000
DTSTAMP:20260425T162827
CREATED:20260216T013837Z
LAST-MODIFIED:20260216T013837Z
UID:248518-1793988000-1793998800@www.1bac.de
SUMMARY:Clubabend
DESCRIPTION:
URL:https://www.1bac.de/event/clubabend-8/
LOCATION:FV Viktoria Ubstadt\, Kolpingstraße 26\, Ubstadt\, 76698
END:VEVENT
BEGIN:VEVENT
DTSTART;TZID=Europe/Berlin:20261204T113000
DTEND;TZID=Europe/Berlin:20261204T150000
DTSTAMP:20260425T162827
CREATED:20260216T013953Z
LAST-MODIFIED:20260216T013953Z
UID:248520-1796383800-1796396400@www.1bac.de
SUMMARY:Weihnachtsfeier
DESCRIPTION:
URL:https://www.1bac.de/event/weihnachtsfeier-2/
LOCATION:FV Viktoria Ubstadt\, Kolpingstraße 26\, Ubstadt\, 76698
END:VEVENT
END:VCALENDAR